BEGIN:VCALENDAR
VERSION:2.0
PRODID:-//ChamberMaster//Event Calendar 2.0//EN
METHOD:PUBLISH
X-PUBLISHED-TTL:P3D
REFRESH-INTERVAL:P3D
CALSCALE:GREGORIAN
BEGIN:VEVENT
DTSTART:20211006T130000Z
DTEND:20211007T020000Z
X-MICROSOFT-CDO-ALLDAYEVENT:FALSE
SUMMARY:All Chamber's Meeting
DESCRIPTION:Any Chamber staff/volunteer throughout the network is welcome to join these meetings. Our focus is operational issues and Chamber management best practices. These meetings help us stay connected until we can safely meet in person again.\n\nRemember: if you?re doing something that is helping your Chamber operations\, events\, governance or with member engagement?.please bring forward to the group. Everyone is looking for ideas these days to help them increase their effectiveness and deliver member value. That part of the power of our network?all of the great minds working together!
X-ALT-DESC;FMTTYPE=text/html:Any Chamber staff/volunteer throughout the network is welcome to join these meetings. Our focus is operational issues and Chamber management best practices. These meetings help us stay connected until we can safely meet in person again.<br>\nRemember: if you?re doing something that is helping your Chamber operations\, events\, governance or with member engagement?.please bring forward to the group. Everyone is looking for ideas these days to help them increase their effectiveness and deliver member value. That part of the power of our network?all of the great minds working together!
LOCATION:ZOOM:
UID:e.1721.3130
SEQUENCE:3
DTSTAMP:20260423T213002Z
URL:https://www.atlanticchamber.ca/events/details/all-chamber-s-meeting-10-06-2021-3130
END:VEVENT

END:VCALENDAR
