BEGIN:VCALENDAR
VERSION:2.0
PRODID:-//ChamberMaster//Event Calendar 2.0//EN
METHOD:PUBLISH
X-PUBLISHED-TTL:P3D
REFRESH-INTERVAL:P3D
CALSCALE:GREGORIAN
BEGIN:VEVENT
DTSTART:20190423T213000Z
DTEND:20190424T193000Z
X-MICROSOFT-CDO-ALLDAYEVENT:FALSE
SUMMARY:Atlantic Immigration Summit The Power of Inclusion PEI
DESCRIPTION:The Atlantic Immigration Summits will convene a cross section of business leaders\, entrepreneurs\, municipalities\, educational institutions\, newcomers\, students\, settlement agencies\, industry specialists and citizens for a proactive dialogue and exchange on immigration\, diversity and inclusion. The summits will focus on innovative\, practical\, and actionable solutions to strengthen Atlantic Canada's immigration system and improve economic performance with a focus on building inclusive communities. Join us in discussing how we\, as a community\, can work together to grow our economy and help shape an inclusive Atlantic Canada.\n\nKey Note Speakers:\n\nNova Scotia: Wadih M. Fares\, C.M.\, P.Eng.\, FEC.\, D. Comm. President & CEO WM Fares Group\n\nNew Brunswick: Francis McGuire President Atlantic Canada Opportunities Agency\n\nPrince Edward Island: Honourable H. Wade Maclauchlan Premier of Prince Edward Island\n\nNewfoundland: Don Mills Founder\, Former CEO and Owner of Corporate Research Associates Inc.
X-ALT-DESC;FMTTYPE=text/html:The Atlantic Immigration Summits will convene a cross section of business leaders\, entrepreneurs\, municipalities\, educational institutions\, newcomers\, students\, settlement agencies\, industry specialists and citizens for a proactive dialogue and exchange on immigration\, diversity and inclusion. The summits will focus on innovative\, practical\, and actionable solutions to strengthen Atlantic Canada&rsquo\;s immigration system and improve economic performance with a focus on building inclusive communities. Join us in discussing how we\, as a community\, can work together to grow our economy and help shape an inclusive Atlantic Canada.<br />\nKey Note Speakers:<br />\nNova Scotia: Wadih M. Fares\, C.M.\, P.Eng.\, FEC.\, D. Comm. President &amp\; CEO WM Fares Group<br />\nNew Brunswick: Francis McGuire President Atlantic Canada Opportunities Agency<br />\nPrince Edward Island: Honourable H. Wade Maclauchlan Premier of Prince Edward Island<br />\nNewfoundland: Don Mills Founder\, Former CEO and Owner of Corporate Research Associates Inc.
LOCATION:Day One Evening Alien Ballet Confederation Centre of the Arts\, 145 Richmond St. Day Two Atlantic immigration Summit Delta Hotel\, 18 Queen St.
UID:e.1721.508
SEQUENCE:3
DTSTAMP:20260420T234539Z
URL:https://www.atlanticchamber.ca/events/details/atlantic-immigration-summit-the-power-of-inclusion-pei-508
END:VEVENT

END:VCALENDAR
