BEGIN:VCALENDAR
VERSION:2.0
PRODID:-//ChamberMaster//Event Calendar 2.0//EN
METHOD:PUBLISH
X-PUBLISHED-TTL:P3D
REFRESH-INTERVAL:P3D
CALSCALE:GREGORIAN
BEGIN:VEVENT
DTSTART:20200527T140000Z
DTEND:20200527T150000Z
X-MICROSOFT-CDO-ALLDAYEVENT:FALSE
SUMMARY:Cluster Employment Webinar
DESCRIPTION:Join 4G Placemaking for a FREE Webinar on the innovative new collaborative employment solution: Cluster Employment This webinar is particularly pertinent as employers try to navigate this new economy climate. Cluster Employment provides full time solutions to part time needs. The Cluster Employment Team will outline the origin\, the how-to\, the collaborative cost sharing and the functionality of the online platform. Free for EVERYONE! Please RSVP to receive the link. Link will be sent the day before to the event.
X-ALT-DESC;FMTTYPE=text/html:Join 4G Placemaking for a FREE Webinar on the innovative new collaborative employment solution: Cluster Employment This webinar is particularly pertinent as employers try to navigate this new economy climate. Cluster Employment provides full time solutions to part time needs. The Cluster Employment Team will outline the origin\, the how-to\, the collaborative cost sharing and the functionality of the online platform. Free for EVERYONE! Please RSVP to receive the link. Link will be sent the day before to the event.
LOCATION:Online
UID:e.1721.2746
SEQUENCE:3
DTSTAMP:20260422T013934Z
URL:https://www.atlanticchamber.ca/events/details/cluster-employment-webinar-2746
END:VEVENT

END:VCALENDAR
